BEGIN:VCALENDAR
VERSION:2.0
PRODID:-//jEvents 2.0 for Joomla//EN
CALSCALE:GREGORIAN
METHOD:PUBLISH
BEGIN:VEVENT
UID:23uei8301lh39u64jodq91jtmi@google.com
CATEGORIES:Googlekalender
CREATED:20211208T110508
SUMMARY:Terminabsprache der Vereine (Frauenbund Sandsbach) im Vereinsstadel in Sandsbach
LOCATION:Schulstraße 1b, 84097, Sandsbach, Herrngiersdorf, Deutschland
DESCRIPTION;ENCODING=QUOTED-PRINTABLE:Terminabsprache\nder Vereine\nHerrngiersdorf/Sandsbach. (hm)\nAm Donnerstag
 , 26. September, um\n19.30 Uhr, findet die Terminabsprache\nder Vereine und
  Institutionen\nder Gemeinde Herrngiersdorf für\ndas Jahr 2020 im Vereinsst
 adel in\nSandsbach statt.
DTSTAMP:20260421T203704Z
DTSTART:20190926T173000Z
DTEND:20190926T193000Z
SEQUENCE:0
TRANSP:OPAQUE
END:VEVENT
END:VCALENDAR