BEGIN:VCALENDAR
VERSION:2.0
PRODID:-//jEvents 2.0 for Joomla//EN
CALSCALE:GREGORIAN
METHOD:PUBLISH
BEGIN:VEVENT
UID:0q0j5p2hrv42osspp70g8gdq6r@google.com
CATEGORIES:Googlekalender
CREATED:20211208T110508
SUMMARY:FF Gemeinde Herrngiersdorf - Großübung mit Sandsbach und Oberroning
LOCATION:Bernhardstraße 35, 84097, Herrngiersdorf, Deutschland
DESCRIPTION;ENCODING=QUOTED-PRINTABLE:
DTSTAMP:20260421T231641Z
DTSTART:20191007T163000Z
DTEND:20191007T190000Z
SEQUENCE:1
TRANSP:OPAQUE
END:VEVENT
END:VCALENDAR