BEGIN:VCALENDAR
VERSION:2.0
PRODID:-//jEvents 2.0 for Joomla//EN
CALSCALE:GREGORIAN
METHOD:PUBLISH
BEGIN:VEVENT
UID:4tni8bfb3i0mkrn0u3vugnsrf7@google.com
CATEGORIES:Googlekalender
CREATED:20211208T110508
SUMMARY:FF Gemeinde Herrngiersdorf - Erinnerungstermin Gefallenengedenken Messe zahlen
LOCATION:Bernhardstraße 25, 84097, Herrngiersdorf, Deutschland
DESCRIPTION;ENCODING=QUOTED-PRINTABLE:Vorbereitungen zum Gefallenengedenken:\n\n\nZu erledigen bis 15. September:
 \n\nEs muss eine Messe im Pfarramt Sandsbach eingehen, damit die Messe im P
 farrbrief erscheint. Das Formular findet man im Pfarrbrief. Formular einsca
 nnen und mit folgendem Text an die E-Mail-Adresse Diese E-Mail-Adresse ist 
 vor Spambots geschützt! Zur Anzeige muss JavaScript eingeschaltet sein!
			
 	document.getElementById('cloak752479178f3d15b20fd575348d6b2f76').innerHTML
  = '';
				var prefix = '&#109;a' + 'i&#108;' + '&#116;o';
				var path = '
 hr' + 'ef' + '=';
				var addy752479178f3d15b20fd575348d6b2f76 = 'st-p&#101
 ;t&#101;r.s&#97;ndsb&#97;ch' + '&#64;';
				addy752479178f3d15b20fd575348d6
 b2f76 = addy752479178f3d15b20fd575348d6b2f76 + 'b&#105;st&#117;m-r&#101;g&#
 101;nsb&#117;rg' + '&#46;' + 'd&#101;';
				var addy_text752479178f3d15b20f
 d575348d6b2f76 = 'st-p&#101;t&#101;r.s&#97;ndsb&#97;ch' + '&#64;' + 'b&#105
 ;st&#117;m-r&#101;g&#101;nsb&#117;rg' + '&#46;' + 'd&#101;';document.getEle
 mentById('cloak752479178f3d15b20fd575348d6b2f76').innerHTML += ''+addy_text
 752479178f3d15b20fd575348d6b2f76+'';
		 schreiben.&nbsp;\n\n\n"Hallo Hr. Pf
 arrer,\n\nWir wollen für den xx.11.201x zum Gefallenengedenken eine Messe f
 ür unsere verstorbene Kameraden bezahlen, siehe auch Anhang.\nBesteht die M
 öglichkeit das sie uns eine Rechnung für die Vereinskasse zukommen lassen d
 ann würden wir den Betrag überweisen.\n\nDanke für Ihre Hilfe"
DTSTAMP:20260421T202504Z
DTSTART:20190901T160000Z
DTEND:20190901T161500Z
SEQUENCE:0
TRANSP:OPAQUE
END:VEVENT
END:VCALENDAR