BEGIN:VCALENDAR
VERSION:2.0
PRODID:-//jEvents 2.0 for Joomla//EN
CALSCALE:GREGORIAN
METHOD:PUBLISH
BEGIN:VEVENT
UID:03afsqejltpp5n8vn5dkgbnnmt@google.com
CATEGORIES:Googlekalender
CREATED:20211208T110507
SUMMARY:FF Verein Herrngiersdorf - 2. Sitzung Arbeitskreis Mitgliederversammlung
LOCATION:Mühlberg 46, 84097, Herrngiersdorf, Deutschland
DESCRIPTION;ENCODING=QUOTED-PRINTABLE:Teilnehmer:\nPeter Fischer\nAnton Mayer\n\nnicht anwesend:\nVerena Ottl
DTSTAMP:20260421T185929Z
DTSTART:20191030T180000Z
DTEND:20191030T200000Z
SEQUENCE:0
TRANSP:OPAQUE
END:VEVENT
END:VCALENDAR