BEGIN:VCALENDAR
VERSION:2.0
PRODID:-//jEvents 2.0 for Joomla//EN
CALSCALE:GREGORIAN
METHOD:PUBLISH
BEGIN:VEVENT
UID:2jpef141ssqoba89a25ekt7a7a@google.com
CATEGORIES:Googlekalender
CREATED:20211208T110507
SUMMARY:FF Verein Herrngiersdorf - 1. Sitzung Arbeitskreis Mitgliederversammlung
LOCATION:Mühlberg 46, 84097, Herrngiersdorf, Deutschland
DESCRIPTION;ENCODING=QUOTED-PRINTABLE:Teilnehmer:\nVerena Ottl\nAlois Schmid\nPeter Fischer\nAnton Mayer\n\nnicht
  anwesend:
DTSTAMP:20260421T185838Z
DTSTART:20191017T170000Z
DTEND:20191017T190000Z
SEQUENCE:0
TRANSP:OPAQUE
END:VEVENT
END:VCALENDAR