BEGIN:VCALENDAR
VERSION:2.0
PRODID:-//jEvents 2.0 for Joomla//EN
CALSCALE:GREGORIAN
METHOD:PUBLISH
BEGIN:VEVENT
UID:0sc7fvgkecrgp7ian015q08lkq@google.com
CATEGORIES:Googlekalender
CREATED:20211208T110507
SUMMARY:FF Verein Herrngiersdorf - 3. Sitzung Arbeitskreis Mitgliederversammlung
LOCATION:Mühlberg 46, 84097, Herrngiersdorf, Deutschland
DESCRIPTION;ENCODING=QUOTED-PRINTABLE:Teilnehmer:\nPeter Fischer\nAnton Mayer\nVerena Ottl\n\nnicht anwesend:
DTSTAMP:20260421T214156Z
DTSTART:20191113T180000Z
DTEND:20191113T200000Z
SEQUENCE:1
TRANSP:OPAQUE
END:VEVENT
END:VCALENDAR