BEGIN:VCALENDAR
VERSION:2.0
PRODID:-//jEvents 2.0 for Joomla//EN
CALSCALE:GREGORIAN
METHOD:PUBLISH
BEGIN:VEVENT
UID:52g6i37t0bu77umaiutnhtvh8u@google.com
CATEGORIES:Googlekalender
CREATED:20211208T110507
SUMMARY:FF Verein Herrngiersdorf - 4. Sitzung Arbeitskreis Mitgliederversammlung
LOCATION:Mühlberg 46, 84097, Herrngiersdorf, Deutschland
DESCRIPTION;ENCODING=QUOTED-PRINTABLE:Teilnehmer:\nPeter Fischer\nAnton Mayer\nVerena Ottl\n\nnicht anwesend:
DTSTAMP:20260421T133306Z
DTSTART:20191210T180000Z
DTEND:20191210T200000Z
SEQUENCE:0
TRANSP:OPAQUE
END:VEVENT
END:VCALENDAR