BEGIN:VCALENDAR
VERSION:2.0
PRODID:-//jEvents 2.0 for Joomla//EN
CALSCALE:GREGORIAN
METHOD:PUBLISH
BEGIN:VEVENT
UID:3e816gdtu3doh24a9ihke0mvnn@google.com
CATEGORIES:Googlekalender
CREATED:20211208T110507
SUMMARY:FF Gemeinde Herrngiersdorf - MTA Ausbildung - Prüfung
LOCATION:Bernhardstraße 35, 84097 Herrngiersdorf Deutschland
DESCRIPTION;ENCODING=QUOTED-PRINTABLE:Herrngiersdorf. Feuerwehr: Am Dienstag, 26. November, 18 Uhr, Abschlussprüf
 ung der Modularen Truppausbildung (MTA) im Feuerwehrhaus.
DTSTAMP:20260421T214249Z
DTSTART:20191126T170000Z
DTEND:20191126T203000Z
SEQUENCE:1
TRANSP:OPAQUE
END:VEVENT
END:VCALENDAR