BEGIN:VCALENDAR
VERSION:2.0
PRODID:-//jEvents 2.0 for Joomla//EN
CALSCALE:GREGORIAN
METHOD:PUBLISH
BEGIN:VEVENT
UID:14jsfumegsshain0iqs52soij1@google.com
CATEGORIES:Googlekalender
CREATED:20211208T110507
SUMMARY:FF Verein Herrngiersdorf - Beerdigung Bauer Thomas
LOCATION:Bernhardstraße 25, 84097 Herrngiersdorf, Deutschland
DESCRIPTION;ENCODING=QUOTED-PRINTABLE:Zur Abordnung gehören Herbert Fischl (Fahnenträger), Schmidbauer Karl, Jose
 f Ottl (Grabredner). Treffpunkt um 14.15Uhr vor der Kirche in Herrngiersdor
 f.
DTSTAMP:20260421T173723Z
DTSTART:20191127T133000Z
DTEND:20191127T163000Z
SEQUENCE:1
TRANSP:OPAQUE
END:VEVENT
END:VCALENDAR