BEGIN:VCALENDAR
VERSION:2.0
PRODID:-//jEvents 2.0 for Joomla//EN
CALSCALE:GREGORIAN
METHOD:PUBLISH
BEGIN:VEVENT
UID:6c6670v2kllaerpnqugdbocjd3@google.com
CATEGORIES:Googlekalender
CREATED:20211208T110507
SUMMARY:FF Gemeinde Herrngiersdorf - Vereine HG/SK/SI Spendenübergabe Sparkasse 
LOCATION:Sparkasse Landshut - Geschäftsstelle, Marktpl. 27, 84085 Langquaid, Deutsch
 land
DESCRIPTION;ENCODING=QUOTED-PRINTABLE:Teilnehmer:\nVerein Herrngiersdorf - Mayer Anton\nVerein Semerskirchen - Da
 llmeier Tobias\nVerein Sittelsdorf - Ottl Helmut
DTSTAMP:20260421T133235Z
DTSTART:20191203T170000Z
DTEND:20191203T180000Z
SEQUENCE:0
TRANSP:OPAQUE
END:VEVENT
END:VCALENDAR