BEGIN:VCALENDAR
VERSION:2.0
PRODID:-//jEvents 2.0 for Joomla//EN
CALSCALE:GREGORIAN
METHOD:PUBLISH
BEGIN:VEVENT
UID:1tdbkt47nuh9tmi5epth1rrflv@google.com
CATEGORIES:Googlekalender
CREATED:20211208T110507
SUMMARY:Verein FF Herrngiersdorf - Kühlanhänger TÜV
LOCATION:Bernhardstraße 60, 84097 Herrngiersdorf, Deutschland
DESCRIPTION;ENCODING=QUOTED-PRINTABLE:
DTSTAMP:20260421T170854Z
DTSTART;VALUE=DATE:20200112
DTEND;VALUE=DATE:20200113
SEQUENCE:2
TRANSP:OPAQUE
END:VEVENT
END:VCALENDAR