BEGIN:VCALENDAR
VERSION:2.0
PRODID:-//jEvents 2.0 for Joomla//EN
CALSCALE:GREGORIAN
METHOD:PUBLISH
BEGIN:VEVENT
UID:2vcg751svk3ldtskvccqcvn39v@google.com
CATEGORIES:Googlekalender
CREATED:20211208T110507
SUMMARY:FF Verein Herrngiersdorf - Schulungsabend Ehrenabzeichen vom Kreisfeuerwehrverband Kelheim 
LOCATION:Feuerwehr Rohr, Landshuter Str. 16, 93352 Rohr
DESCRIPTION;ENCODING=QUOTED-PRINTABLE:Teilnehmer:\nAnton Mayer\nVerena Ottl\n\nAbfahrt:\n19.40Uhr
DTSTAMP:20260421T150946Z
DTSTART:20200121T180000Z
DTEND:20200121T200000Z
SEQUENCE:0
TRANSP:OPAQUE
END:VEVENT
END:VCALENDAR