BEGIN:VCALENDAR
VERSION:2.0
PRODID:-//jEvents 2.0 for Joomla//EN
CALSCALE:GREGORIAN
METHOD:PUBLISH
BEGIN:VEVENT
UID:0vssvh3bb08rqlg3hpiulo219c@google.com
CATEGORIES:Googlekalender
CREATED:20211208T110507
SUMMARY:Faschingsball der Vereine im Gasthaus Haslbeck
LOCATION:Langstraße 29, 84097, Semerskirchen, Herrngiersdorf, Deutschland
DESCRIPTION;ENCODING=QUOTED-PRINTABLE:\nBall der Vereine\nHerrngiersdorf.&nbsp;(hm) Am 15. Februar, 20 Uhr, finde
 t ein Faschingsball der Vereine mit Maskenprämierung im Gasthaus Haslbeck s
 tatt. Für die Unterhaltung sorgt die Partyband „Rock@Rollers“. Karten, auch
  in Verbindung mit Platzreservierungen, gibt es beim Heigl-Kramer in Herrng
 iersdorf.
DTSTAMP:20260422T143233Z
DTSTART:20200215T180000Z
DTEND:20200215T225500Z
SEQUENCE:1
TRANSP:OPAQUE
END:VEVENT
END:VCALENDAR