BEGIN:VCALENDAR
VERSION:2.0
PRODID:-//jEvents 2.0 for Joomla//EN
CALSCALE:GREGORIAN
METHOD:PUBLISH
BEGIN:VEVENT
UID:5bnkrsaldritj0sak0v9kr7fol@google.com
CATEGORIES:Googlekalender
CREATED:20211208T110507
SUMMARY:FF Verein Herrngiersdorf - 2. Sitzung Arbeitskreis Homepage
LOCATION:Mühlberg 46, 84097, Herrngiersdorf, Deutschland
DESCRIPTION;ENCODING=QUOTED-PRINTABLE:Teilnehmer:\nAnton Mayer\nPeter Fischer\nFlorian Meyer\nVerena Ottl\nJulia 
 Ottl\n\n- entschuldig:\nGeorg Zepf
DTSTAMP:20260422T143416Z
DTSTART:20200212T180000Z
DTEND:20200212T200000Z
SEQUENCE:0
TRANSP:OPAQUE
END:VEVENT
END:VCALENDAR