BEGIN:VCALENDAR
VERSION:2.0
PRODID:-//jEvents 2.0 for Joomla//EN
CALSCALE:GREGORIAN
METHOD:PUBLISH
BEGIN:VEVENT
UID:2bcc0inaqdgoibiiliikgc32u0@google.com
CATEGORIES:Googlekalender
CREATED:20211208T110507
SUMMARY:FF Verein Herrngiersdorf - Hochzeit von Markus und Maria Hirthammer
LOCATION:Wirtsweg 2, 93342 Saal an der Donau, Deutschland
DESCRIPTION;ENCODING=QUOTED-PRINTABLE:Die Hochzeit beginnt um 11 Uhr mit einem Weißwurstessen in Einmuß anschließ
 end findet die Trauung in der Kirche in Einmuß statt. Nach der Trauung fähr
 t die Hochzeitsgesellschaft nach Semerskirchen zum Gasthaus Haslbeck.
DTSTAMP:20260421T203504Z
DTSTART:20191005T084500Z
DTEND:20191005T215900Z
SEQUENCE:0
TRANSP:OPAQUE
END:VEVENT
END:VCALENDAR