BEGIN:VCALENDAR
VERSION:2.0
PRODID:-//jEvents 2.0 for Joomla//EN
CALSCALE:GREGORIAN
METHOD:PUBLISH
BEGIN:VEVENT
UID:47gr7ne1jorflg7a361j65tr2i@google.com
CATEGORIES:Googlekalender
CREATED:20211208T110507
SUMMARY:FF Gemeinde Herrngiersdorf - Übung auch Jugendgruppe "Winterschulung/UVV"
LOCATION:Bernhardstraße 35, 84097, Herrngiersdorf, Deutschland
DESCRIPTION;ENCODING=QUOTED-PRINTABLE:
DTSTAMP:20260421T152618Z
DTSTART:20200123T180000Z
DTEND:20200123T200000Z
SEQUENCE:1
TRANSP:OPAQUE
END:VEVENT
END:VCALENDAR