BEGIN:VCALENDAR
VERSION:2.0
PRODID:-//jEvents 2.0 for Joomla//EN
CALSCALE:GREGORIAN
METHOD:PUBLISH
BEGIN:VEVENT
UID:77q89jacti1g24u3a6vsc4jdaj@google.com
CATEGORIES:Googlekalender
CREATED:20211208T110507
SUMMARY:FF Gemeinde Herrngiersdorf - Übung Jugendgruppe "UVV"
LOCATION:Bernhardstraße 35, 84097, Herrngiersdorf, Deutschland, 
DESCRIPTION;ENCODING=QUOTED-PRINTABLE:
DTSTAMP:20260422T143314Z
DTSTART:20200227T180000Z
DTEND:20200227T190000Z
SEQUENCE:0
TRANSP:OPAQUE
END:VEVENT
END:VCALENDAR