BEGIN:VCALENDAR
VERSION:2.0
PRODID:-//jEvents 2.0 for Joomla//EN
CALSCALE:GREGORIAN
METHOD:PUBLISH
BEGIN:VEVENT
UID:71phv6g8un9dv2pg2ga5iaet0g@google.com
CATEGORIES:Googlekalender
CREATED:20191110T140510
SUMMARY:FF Verein Herrngiersdorf - Mitgliederversammlung mit Neuwahlen im Gasthaus Haslbeck
LOCATION:Langstraße 29, 84097, Semerskirchen, Herrngiersdorf, Deutschland
DESCRIPTION;ENCODING=QUOTED-PRINTABLE:Herrngiersdorf. Feuerwehrverein:\nAm Freitag, 26. Januar, um 19 Uhr findetd
 ie Jahresversammlung mit Rechenschaftsberichtenvom Vorstandund der Kommanda
 nten im Gasthaus\nHaslbeck in Semerskirchen statt.
DTSTAMP:20260421T150817Z
DTSTART:20200117T180000Z
DTEND:20200117T200000Z
SEQUENCE:0
TRANSP:OPAQUE
END:VEVENT
END:VCALENDAR