BEGIN:VCALENDAR
VERSION:2.0
PRODID:-//jEvents 2.0 for Joomla//EN
CALSCALE:GREGORIAN
METHOD:PUBLISH
BEGIN:VEVENT
UID:2j4eg5m2qg11ft2rurq23uc8sg@google.com
CATEGORIES:Googlekalender
CREATED:20260303T191509
SUMMARY:Bürgersaal Belegungsplan - Bläserensemble Blechklang e.V. - Markus Hirthammer
LOCATION:Bernhardstraße 35, 84097, Herrngiersdorf, Deutschland
DESCRIPTION;ENCODING=QUOTED-PRINTABLE:
DTSTAMP:20260426T032010Z
DTSTART:20260401T170000Z
DTEND:20260401T183000Z
SEQUENCE:0
TRANSP:OPAQUE
END:VEVENT
END:VCALENDAR