BEGIN:VCALENDAR
VERSION:2.0
PRODID:-//jEvents 2.0 for Joomla//EN
CALSCALE:GREGORIAN
METHOD:PUBLISH
BEGIN:VEVENT
UID:7p4cveabfimdqh7e5oliu801d2@google.com
CATEGORIES:Googlekalender
CREATED:20260303T191509
SUMMARY:Bürgersaal Belegungsplan - Tanzgruppe - Grzrgorz Piatkowski
LOCATION:Bernhardstraße 35, 84097, Herrngiersdorf, Deutschland
DESCRIPTION;ENCODING=QUOTED-PRINTABLE:
DTSTAMP:20260426T031917Z
DTSTART:20260401T143000Z
DTEND:20260401T160000Z
SEQUENCE:0
TRANSP:OPAQUE
END:VEVENT
END:VCALENDAR