BEGIN:VCALENDAR
VERSION:2.0
PRODID:-//jEvents 2.0 for Joomla//EN
CALSCALE:GREGORIAN
METHOD:PUBLISH
BEGIN:VEVENT
UID:5t4tr0t8rq9a7tfaq1u06vk44j@google.com
CATEGORIES:Googlekalender
CLASS:PUBLIC
CREATED:20221121T200507
SUMMARY:FF Gemeinde Herrngiersdorf - Atemschutzübungsstrecke Neustadt/Donau ab 19.30Uhr
LOCATION:Atemschutzzentrum, Herrnstraße 27, 93333 Neustadt an der Donau, Deutschland
DESCRIPTION;ENCODING=QUOTED-PRINTABLE:Ab 19.00Uhr können wir in Neustadt in die Strecke\nEs sind für 4 Personen, 
 Plätze reserviert.\n\nTeilnehmer:\n- \n- \n- \n-
DTSTAMP:20260420T115112Z
DTSTART:20230517T170000Z
DTEND:20230517T173000Z
SEQUENCE:0
TRANSP:OPAQUE
END:VEVENT
END:VCALENDAR