BEGIN:VCALENDAR
VERSION:2.0
PRODID:-//jEvents 2.0 for Joomla//EN
CALSCALE:GREGORIAN
METHOD:PUBLISH
BEGIN:VEVENT
UID:0fuiq3aee6r7n2laipuflsgmom@google.com
CATEGORIES:Googlekalender
CREATED:20221025T220507
SUMMARY:FF Verein Herrngiersdorf - 4. Sitzung Arbeitskreis Vorstandschaft
LOCATION:Bernhardstraße 35, 84097, Herrngiersdorf, Deutschland
DESCRIPTION;ENCODING=QUOTED-PRINTABLE:Teilnehmer:\nAnton Mayer\nFlorian Meyer\nPeter Fischer\n\nGrund:\n- Homepag
 e Einsätze nachpflege\n- Mitgliederversammlung Vorbereitung\n- Sonstiges
DTSTAMP:20260424T040013Z
DTSTART:20221115T180000Z
DTEND:20221115T210000Z
SEQUENCE:0
TRANSP:OPAQUE
END:VEVENT
END:VCALENDAR