BEGIN:VCALENDAR
VERSION:2.0
PRODID:-//jEvents 2.0 for Joomla//EN
CALSCALE:GREGORIAN
METHOD:PUBLISH
BEGIN:VEVENT
UID:53t1kj21ckqmil5qa9t3oskbn2@google.com
CATEGORIES:Googlekalender
CREATED:20221025T160507
SUMMARY:FF Verein Herrngiersdorf - Ausleihgegenstände Fa. ROPA Abholung 
DESCRIPTION;ENCODING=QUOTED-PRINTABLE:
DTSTAMP:20260424T040109Z
DTSTART:20221103T163000Z
DTEND:20221103T170000Z
SEQUENCE:1
TRANSP:OPAQUE
END:VEVENT
END:VCALENDAR