BEGIN:VCALENDAR
VERSION:2.0
PRODID:-//jEvents 2.0 for Joomla//EN
CALSCALE:GREGORIAN
METHOD:PUBLISH
BEGIN:VEVENT
UID:589q15ofrj5e1qt2m5bk5avbru@google.com
CATEGORIES:Googlekalender
CREATED:20221003T110506
SUMMARY:FF Vorstandschafts- und Kommandantensitzung im Gruppenraum vom Feuerwehrhaus
LOCATION:Bernhardstraße 35, 84097 Herrngiersdorf, Deutschland
DESCRIPTION;ENCODING=QUOTED-PRINTABLE:
DTSTAMP:20260424T040110Z
DTSTART:20221108T183000Z
DTEND:20221108T193000Z
SEQUENCE:1
TRANSP:OPAQUE
END:VEVENT
END:VCALENDAR