BEGIN:VCALENDAR
VERSION:2.0
PRODID:-//jEvents 2.0 for Joomla//EN
CALSCALE:GREGORIAN
METHOD:PUBLISH
BEGIN:VEVENT
UID:3sit2j7ieb6q2hel9hlsctg9i9@google.com
CATEGORIES:Googlekalender
CREATED:20221003T110506
SUMMARY:FF Verein Herrngiersdorf - Adventsmarkt am Gelände vom Feuerwehrhaus
LOCATION:Bernhardstraße 35, 84097, Herrngiersdorf, Deutschland
DESCRIPTION;ENCODING=QUOTED-PRINTABLE:
DTSTAMP:20260424T040013Z
DTSTART:20221120T150000Z
DTEND:20221120T170000Z
SEQUENCE:1
TRANSP:OPAQUE
END:VEVENT
END:VCALENDAR