BEGIN:VCALENDAR
VERSION:2.0
PRODID:-//jEvents 2.0 for Joomla//EN
CALSCALE:GREGORIAN
METHOD:PUBLISH
BEGIN:VEVENT
UID:2apbvjk9kmud5rq9g8fi6bopn3@google.com
CATEGORIES:Googlekalender
CREATED:20220628T220509
SUMMARY:FF Verein Herrngiersdorf - Beerdigung Hierhammer Robert
LOCATION:Kirche St. Martin Herrngiersdorf, Bernhardstraße 25, 84097 Herrngiersdorf, 
 Deutschland
DESCRIPTION;ENCODING=QUOTED-PRINTABLE:Zur Abordnung gehören Herbert Fischl (Fahnenträger), Josef Ottl (Grabredner
 ), Schmidbauer Karl, Piatkowski Gregor, Florian Hirthammer. Treffpunkt um 1
 4.15Uhr vor der Kirche in Herrngiersdorf.
DTSTAMP:20260421T062811Z
DTSTART:20220628T123000Z
DTEND:20220628T153000Z
SEQUENCE:0
TRANSP:OPAQUE
END:VEVENT
END:VCALENDAR