BEGIN:VCALENDAR
VERSION:2.0
PRODID:-//jEvents 2.0 for Joomla//EN
CALSCALE:GREGORIAN
METHOD:PUBLISH
BEGIN:VEVENT
UID:33rdl4uf705a08p1dsb0dc1oie@google.com
CATEGORIES:Googlekalender
CREATED:20220531T080506
SUMMARY:FF Verein Herrngiersdorf - Training für Gauditurnier TSV Herrngiersdorf
LOCATION:TSV Herrngiersdorf, Bernhardstraße 1b, 84097 Herrngiersdorf, Deutschland
DESCRIPTION;ENCODING=QUOTED-PRINTABLE:
DTSTAMP:20260421T063121Z
DTSTART:20220602T163000Z
DTEND:20220602T190000Z
SEQUENCE:0
TRANSP:OPAQUE
END:VEVENT
END:VCALENDAR