BEGIN:VCALENDAR
VERSION:2.0
PRODID:-//jEvents 2.0 for Joomla//EN
CALSCALE:GREGORIAN
METHOD:PUBLISH
BEGIN:VEVENT
UID:5s6utiito2blrkcb6814rbb7j0@google.com
CATEGORIES:Googlekalender
CREATED:20220216T190507
SUMMARY:FF Verein Herrngiersdorf - Grillfest am Gelände vom Feuerwehrhaus
LOCATION:Bernhardstraße 35, 84097, Herrngiersdorf, Deutschland
DESCRIPTION;ENCODING=QUOTED-PRINTABLE:Grillfest der Feuerwehr Herrngiersdorf. (hm) An Fronleichnam, 16. Juni, fin
 det ab 11.30 Uhr das Grillfest des Feuerwehrvereins für die Bevölkerung im 
 und am neuen Feuerwehrhaus statt. Das Fest beginnt mit dem Mittagstisch, zu
  dem Rollbraten und Forelle angeboten werden. Es gibt aber auch bewährtes w
 ie Steaks mit Salat sowie Bratwürstel mit Kraut. Am Nachmittag gibt es wied
 er die leckeren Kuchen, die von den Feuerwehrfrauen gebacken werden. Ab 14 
 Uhr werden Aktionen und Spiele für Kinder, zum Beispiel ein Entenrennen im 
 Siegersbacher Graben, Hüpfburg, Tragerlrutsche und Spiele rund um das Thema
  Feuerwehr angeboten. Zur Brotzeit, ab 17 Uhr, werden zudem auch Hamburger 
 und Schaschlik mit Pommes angeboten.
DTSTAMP:20260421T105804Z
DTSTART:20220616T093000Z
DTEND:20220616T210000Z
SEQUENCE:1
TRANSP:OPAQUE
END:VEVENT
END:VCALENDAR