BEGIN:VCALENDAR
VERSION:2.0
PRODID:-//jEvents 2.0 for Joomla//EN
CALSCALE:GREGORIAN
METHOD:PUBLISH
BEGIN:VEVENT
UID:3m914fklvit17914ujhvmr2p3p@google.com
CATEGORIES:Googlekalender
CREATED:20220216T190507
SUMMARY:FF Verein Herrngiersdorf - Vorbereitungen Grillfest am Gelände vom Feuerwehrhaus
LOCATION:Bernhardstraße 35, 84097, Herrngiersdorf, Deutschland
DESCRIPTION;ENCODING=QUOTED-PRINTABLE:
DTSTAMP:20260421T033331Z
DTSTART:20220616T040000Z
DTEND:20220616T053000Z
SEQUENCE:1
TRANSP:OPAQUE
END:VEVENT
END:VCALENDAR