BEGIN:VCALENDAR
VERSION:2.0
PRODID:-//jEvents 2.0 for Joomla//EN
CALSCALE:GREGORIAN
METHOD:PUBLISH
BEGIN:VEVENT
UID:21gb03i83asatmb5869fjqiqid@google.com
CATEGORIES:Googlekalender
CREATED:20250322T090511
SUMMARY:1. Sitzung Unterausschuss Lebensmittelkontrolleur (Gründungsfest 2025) im Bürgersaal
LOCATION:Feuerwehr Gemeinde Herrngiersdorf, Bernhardstraße 35, 84097 Herrngiersdorf,
  Deutschland
DESCRIPTION;ENCODING=QUOTED-PRINTABLE:Teilnehmer:\n\n-- Freiwillige Feuerwehr Herrngiersdorf e.V.\n- Anton Mayer\
 n\n-- Lebensmittelkontrolleur\n- Manfred Hofmann
DTSTAMP:20260420T030926Z
DTSTART:20250321T083000Z
DTEND:20250321T090000Z
SEQUENCE:0
TRANSP:OPAQUE
END:VEVENT
END:VCALENDAR