BEGIN:VCALENDAR
VERSION:2.0
PRODID:-//jEvents 2.0 for Joomla//EN
CALSCALE:GREGORIAN
METHOD:PUBLISH
BEGIN:VEVENT
UID:3fe9pbhtld3294f45j35b52m0m@google.com
CATEGORIES:Googlekalender
CREATED:20250316T160510
SUMMARY:FF Verein Herrngiersdorf - 8. Sitzung Arbeitskreis Vorstandschaft
LOCATION:Bachgasse 8, 84097 Herrngiersdorf, Deutschland
DESCRIPTION;ENCODING=QUOTED-PRINTABLE:Teilnehmer:\nAnton Mayer\nFlorian Meyer\nPeter Fischer\nVerena Obermeier\n\
 n\nGrund:\n- Liste ehemaliger Festdamen Nachfragen\n- Einladung Neufahrn\n-
  Einladung Eggmühl\n- Einladung Übersicht\n- Angebot Banner JA/NEIN ?\n- Ho
 mepage Vereinskalender \n- Überblick aller Gründungsfeste Eintragung in Ver
 einskalender\n- Stand Uniform Abgabe bei der Fa. Krümpelmann \n- Sicherheit
 skonzept aktualisieren \n- Protokoll der Mitgliederversammlung\n- Rückmeldu
 ng Verkehrsrechtliche Anordnung Landratsamt\n- Rückmeldung Verkehrsrechtlic
 he Anordnung Gemeinde
DTSTAMP:20260420T030958Z
DTSTART:20250318T180000Z
DTEND:20250318T200000Z
SEQUENCE:0
TRANSP:OPAQUE
END:VEVENT
END:VCALENDAR