BEGIN:VCALENDAR
VERSION:2.0
PRODID:-//jEvents 2.0 for Joomla//EN
CALSCALE:GREGORIAN
METHOD:PUBLISH
BEGIN:VEVENT
UID:1qcuhvkll5gba0g2vaee9f33dj@google.com
CATEGORIES:Googlekalender
CREATED:20250309T100511
SUMMARY:FF Gemeinde Herrngiersdorf - Atemschutzübung | Basics und Auffrischung
LOCATION:Bernhardstraße 35, 84097, Herrngiersdorf, Deutschland
DESCRIPTION;ENCODING=QUOTED-PRINTABLE:Teilnehmer:\n-  Daniel Scherbel\n-  Peter Fischer\n-  Alois Schmid\n- Flori
 an Hirthammer\n- Georg Hermann\n- Ferdinand Heffler\n- Markus Hirthammer\n-
  Stefan Hübner\n- Thomas Kellner\n- Tobias Dallmeier\n- Anton Mayer\n- Jose
 f Ottl  \n\nnicht Anwesend\n- Matthias Daffner\n- Roland Heffler\n- Andreas
  Daffner
DTSTAMP:20260420T025942Z
DTSTART:20250312T180000Z
DTEND:20250312T200000Z
SEQUENCE:0
TRANSP:OPAQUE
END:VEVENT
END:VCALENDAR