BEGIN:VCALENDAR
VERSION:2.0
PRODID:-//jEvents 2.0 for Joomla//EN
CALSCALE:GREGORIAN
METHOD:PUBLISH
BEGIN:VEVENT
UID:1p3p8d8j1008to3qelcncd3aff@google.com
CATEGORIES:Googlekalender
CREATED:20250304T140511
SUMMARY:Gruppenraum Belegungsplan - Hubertusschützen Semerskirchen - Fahnenauslöse
LOCATION:Bernhardstraße 35, 84097, Herrngiersdorf, Deutschland
DESCRIPTION;ENCODING=QUOTED-PRINTABLE:
DTSTAMP:20260420T030028Z
DTSTART:20250307T174500Z
DTEND:20250307T190000Z
SEQUENCE:0
TRANSP:OPAQUE
END:VEVENT
END:VCALENDAR