BEGIN:VCALENDAR
VERSION:2.0
PRODID:-//jEvents 2.0 for Joomla//EN
CALSCALE:GREGORIAN
METHOD:PUBLISH
BEGIN:VEVENT
UID:74a7mhji1j7q4h56gvhnqqhunq@google.com
CATEGORIES:Googlekalender
CREATED:20250303T210511
SUMMARY:FF Verein Herrngiersdorf - Abgabetermin Uniform
LOCATION:Bernhardstraße 35, 84097 Herrngiersdorf, Deutschland
DESCRIPTION;ENCODING=QUOTED-PRINTABLE:Teilnehmer:\nAnton Mayer\nFlorian Meyer\nPeter Fischer\nVerena Obermeier
DTSTAMP:20260420T030926Z
DTSTART:20250310T180000Z
DTEND:20250310T200000Z
SEQUENCE:0
TRANSP:OPAQUE
END:VEVENT
END:VCALENDAR