BEGIN:VCALENDAR
VERSION:2.0
PRODID:-//jEvents 2.0 for Joomla//EN
CALSCALE:GREGORIAN
METHOD:PUBLISH
BEGIN:VEVENT
UID:4gkh0qkot411ligcip9pvharlo@google.com
CATEGORIES:Googlekalender
CREATED:20250302T100512
SUMMARY:1. Sitzung Unterausschuss Koordinierung Gründungsfest und Jahnspiel (Gründungsfest 2025) im TSV Heim
LOCATION:TSV Herrngiersdorf, Bernhardstraße 1b, 84097 Herrngiersdorf, Deutschland
DESCRIPTION;ENCODING=QUOTED-PRINTABLE:Teilnehmer:\n\n-- Hubertusschützen Semerskirchen e.V.\n- Josef Bischof\n\n-
 - Freiwillige Feuerwehr Herrngiersdorf e.V.\n- Anton Mayer\n\n-- TSV Herrng
 iersdorf e.V.\n- Johannes Gschaider\n- Dennis Barth
DTSTAMP:20260419T204530Z
DTSTART:20250319T190000Z
DTEND:20250319T200000Z
SEQUENCE:1
TRANSP:OPAQUE
END:VEVENT
END:VCALENDAR