BEGIN:VCALENDAR
VERSION:2.0
PRODID:-//jEvents 2.0 for Joomla//EN
CALSCALE:GREGORIAN
METHOD:PUBLISH
BEGIN:VEVENT
UID:7i17e4qkm83a8rr9ltbeitsat4@google.com
CATEGORIES:Googlekalender
CREATED:20250302T080509
SUMMARY:Bürgersaal Belegungsplan - Treffen der Festdamen Herrngiersdorf und Sandsbach
LOCATION:Feuerwehr Gemeinde Herrngiersdorf, Bernhardstraße 35, 84097 Herrngiersdorf,
  Deutschland
DESCRIPTION;ENCODING=QUOTED-PRINTABLE:
DTSTAMP:20260422T091245Z
DTSTART:20250305T163000Z
DTEND:20250305T173000Z
SEQUENCE:0
TRANSP:OPAQUE
END:VEVENT
END:VCALENDAR