BEGIN:VCALENDAR
VERSION:2.0
PRODID:-//jEvents 2.0 for Joomla//EN
CALSCALE:GREGORIAN
METHOD:PUBLISH
BEGIN:VEVENT
UID:7drqpcme6uc1q54lj9j5pdeecd@google.com
CATEGORIES:Googlekalender
CREATED:20250223T200510
SUMMARY:Bürgersaal Belegungsplan - Hubertusschützen Semerskirchen - Fahnenauslöse
LOCATION:Bernhardstraße 35, 84097, Herrngiersdorf, Deutschland
DESCRIPTION;ENCODING=QUOTED-PRINTABLE:
DTSTAMP:20260420T063443Z
DTSTART;VALUE=DATE:20250322
DTEND;VALUE=DATE:20250323
SEQUENCE:0
TRANSP:OPAQUE
END:VEVENT
END:VCALENDAR