BEGIN:VCALENDAR
VERSION:2.0
PRODID:-//jEvents 2.0 for Joomla//EN
CALSCALE:GREGORIAN
METHOD:PUBLISH
BEGIN:VEVENT
UID:4dm5leps8kl1oe8rkl7m6qlp9v@google.com
CATEGORIES:Googlekalender
CREATED:20250209T150512
SUMMARY:Bürgersaal Belegungsplan - Treffen der Festdamen Herrngiersdorf und Sandsbach
LOCATION:Feuerwehr Gemeinde Herrngiersdorf, Bernhardstraße 35, 84097 Herrngiersdorf,
  Deutschland
DESCRIPTION;ENCODING=QUOTED-PRINTABLE:Teilnehmer:
DTSTAMP:20260420T030820Z
DTSTART:20250330T080000Z
DTEND:20250330T140000Z
SEQUENCE:0
TRANSP:OPAQUE
END:VEVENT
END:VCALENDAR