BEGIN:VCALENDAR
VERSION:2.0
PRODID:-//jEvents 2.0 for Joomla//EN
CALSCALE:GREGORIAN
METHOD:PUBLISH
BEGIN:VEVENT
UID:6asr57r932c09em7ijabunugkr@google.com
CATEGORIES:Googlekalender
CLASS:PUBLIC
CREATED:20250206T210511
SUMMARY:Bürgersaal Belegungsplan - Verein Bläserensemble Blechklang e.V.
LOCATION:Bernhardstraße 35, 84097, Herrngiersdorf, Deutschland
DESCRIPTION;ENCODING=QUOTED-PRINTABLE:
DTSTAMP:20260420T043408Z
DTSTART:20250305T180000Z
DTEND:20250305T193000Z
SEQUENCE:0
TRANSP:OPAQUE
END:VEVENT
END:VCALENDAR