BEGIN:VCALENDAR
VERSION:2.0
PRODID:-//jEvents 2.0 for Joomla//EN
CALSCALE:GREGORIAN
METHOD:PUBLISH
BEGIN:VEVENT
UID:3lu35md9shnt0m451p6kufm4h4@google.com
CATEGORIES:Googlekalender
CLASS:PUBLIC
CREATED:20250206T210511
SUMMARY:Bürgersaal Belegungsplan - Spielgruppe
LOCATION:Bernhardstraße 35, 84097, Herrngiersdorf, Deutschland
DESCRIPTION;ENCODING=QUOTED-PRINTABLE:
DTSTAMP:20260420T044046Z
DTSTART:20250319T080000Z
DTEND:20250319T100000Z
SEQUENCE:0
TRANSP:OPAQUE
END:VEVENT
END:VCALENDAR