BEGIN:VCALENDAR
VERSION:2.0
PRODID:-//jEvents 2.0 for Joomla//EN
CALSCALE:GREGORIAN
METHOD:PUBLISH
BEGIN:VEVENT
UID:2kkneut4oo4c82l81vpoc1547n@google.com
CATEGORIES:Googlekalender
CLASS:PUBLIC
CREATED:20250206T210511
SUMMARY:Bürgersaal Belegungsplan - Spielgruppe
LOCATION:Bernhardstraße 35, 84097, Herrngiersdorf, Deutschland
DESCRIPTION;ENCODING=QUOTED-PRINTABLE:
DTSTAMP:20260420T055402Z
DTSTART:20250312T080000Z
DTEND:20250312T100000Z
SEQUENCE:0
TRANSP:OPAQUE
END:VEVENT
END:VCALENDAR