BEGIN:VCALENDAR
VERSION:2.0
PRODID:-//jEvents 2.0 for Joomla//EN
CALSCALE:GREGORIAN
METHOD:PUBLISH
BEGIN:VEVENT
UID:17dsjhd89rdn4i491msfvu1ddk@google.com
CATEGORIES:Googlekalender
CLASS:PUBLIC
CREATED:20250206T210511
SUMMARY:Bürgersaal Belegungsplan - Spielgruppe
LOCATION:Bernhardstraße 35, 84097, Herrngiersdorf, Deutschland
DESCRIPTION;ENCODING=QUOTED-PRINTABLE:
DTSTAMP:20260420T090830Z
DTSTART:20250219T080000Z
DTEND:20250219T100000Z
SEQUENCE:0
TRANSP:OPAQUE
END:VEVENT
END:VCALENDAR