BEGIN:VCALENDAR
VERSION:2.0
PRODID:-//jEvents 2.0 for Joomla//EN
CALSCALE:GREGORIAN
METHOD:PUBLISH
BEGIN:VEVENT
UID:1da7gj36f5gl20o3mh2isla3ue@google.com
CATEGORIES:Googlekalender
CREATED:20250206T210511
SUMMARY:Versicherung für Gründungsfest 2025 GbR | Gesellschafter Feuerwehr Herrngiersdorf und Schützenverein Semerskirchen
LOCATION:Bernhardstraße 35, 84097 Herrngiersdorf, Deutschland
DESCRIPTION;ENCODING=QUOTED-PRINTABLE:
DTSTAMP:20260420T153827Z
DTSTART:20250213T100000Z
DTEND:20250213T110000Z
SEQUENCE:0
TRANSP:OPAQUE
END:VEVENT
END:VCALENDAR