BEGIN:VCALENDAR
VERSION:2.0
PRODID:-//jEvents 2.0 for Joomla//EN
CALSCALE:GREGORIAN
METHOD:PUBLISH
BEGIN:VEVENT
UID:3om4a150srivv2omfkpt6su08q@google.com
CATEGORIES:Googlekalender
CREATED:20250206T210511
SUMMARY:Bürgersaal Belegungsplan - private Veranstaltung 
LOCATION:Bernhardstraße 35, 84097, Herrngiersdorf, Deutschland
DESCRIPTION;ENCODING=QUOTED-PRINTABLE:Teresa Ussar
DTSTAMP:20260420T135021Z
DTSTART;VALUE=DATE:20250222
DTEND;VALUE=DATE:20250223
SEQUENCE:0
TRANSP:OPAQUE
END:VEVENT
END:VCALENDAR