BEGIN:VCALENDAR
VERSION:2.0
PRODID:-//jEvents 2.0 for Joomla//EN
CALSCALE:GREGORIAN
METHOD:PUBLISH
BEGIN:VEVENT
UID:60gojcblr5kfjak0t24a4a76co@google.com
CATEGORIES:Googlekalender
CREATED:20211208T110508
SUMMARY:FF Gemeinde Herrngiersdorf - Fortbildung für Kommandanten in Abensberg
LOCATION:An den Sandwellen 2, 93326 Abensberg, Deutschland
DESCRIPTION;ENCODING=QUOTED-PRINTABLE:Samstag, den 26.10.2019             08:30 Uhr – 15:30 Uhr                  
  Fortbildung für Kommandanten 2019 in Abensberg
DTSTAMP:20260421T190530Z
DTSTART:20191026T060000Z
DTEND:20191026T140000Z
SEQUENCE:0
TRANSP:OPAQUE
END:VEVENT
END:VCALENDAR