BEGIN:VCALENDAR
VERSION:2.0
PRODID:-//jEvents 2.0 for Joomla//EN
CALSCALE:GREGORIAN
METHOD:PUBLISH
BEGIN:VEVENT
UID:0nccfoarll4phjj4vepk0e3jsf@google.com
CATEGORIES:Googlekalender
CREATED:20211208T110508
SUMMARY:FF Verein Herrngiersdorf - Gillamoos 2019 - 49. Holzsägewettbewerb im Festzelt Hofbräu
LOCATION:Gillamooswiese, Münchener Straße, Abensberg, Deutschland
DESCRIPTION;ENCODING=QUOTED-PRINTABLE:
DTSTAMP:20260422T033019Z
DTSTART:20190829T173000Z
DTEND:20190829T215900Z
SEQUENCE:0
TRANSP:OPAQUE
END:VEVENT
END:VCALENDAR