BEGIN:VCALENDAR
VERSION:2.0
PRODID:-//jEvents 2.0 for Joomla//EN
CALSCALE:GREGORIAN
METHOD:PUBLISH
BEGIN:VEVENT
UID:33l10orogu82pbrk6iv7kfn3gk@google.com
CATEGORIES:Googlekalender
CREATED:20211208T110508
SUMMARY:FF Gemeinde Herrngiersdorf - Übung Jugendgruppe "Aufbau Löschbehälter"
LOCATION:Bernhardstraße 35, 84097, Herrngiersdorf, Deutschland
DESCRIPTION;ENCODING=QUOTED-PRINTABLE:
DTSTAMP:20260422T045957Z
DTSTART:20190822T170000Z
DTEND:20190822T180000Z
SEQUENCE:0
TRANSP:OPAQUE
END:VEVENT
END:VCALENDAR