BEGIN:VCALENDAR
VERSION:2.0
PRODID:-//jEvents 2.0 for Joomla//EN
CALSCALE:GREGORIAN
METHOD:PUBLISH
BEGIN:VEVENT
UID:72b0erucm4rmrk3eknbvtie0rv@google.com
CATEGORIES:Googlekalender
CREATED:20211208T110508
SUMMARY:FF Gemeinde Herrngiersdorf - Atemschutzübungsstrecke Neustadt/Donau ab 19.30Uhr
LOCATION:Atemschutzzentrum, Herrnstraße 27, 93333 Neustadt an der Donau, Deutschland
DESCRIPTION;ENCODING=QUOTED-PRINTABLE:Ab 19.30Uhr können wir in Neustadt in die Strecke\nEs sind für 4 Personen, 
 Plätze reserviert.\n\nTeilnehmer:\n- \n- \n- \n-
DTSTAMP:20260422T003346Z
DTSTART:20190920T163000Z
DTEND:20190920T200000Z
SEQUENCE:0
TRANSP:OPAQUE
END:VEVENT
END:VCALENDAR