BEGIN:VCALENDAR
VERSION:2.0
PRODID:-//jEvents 2.0 for Joomla//EN
CALSCALE:GREGORIAN
METHOD:PUBLISH
BEGIN:VEVENT
UID:0uctpdruf64m84d5svivdl2avh@google.com
CATEGORIES:Googlekalender
CREATED:20211208T110508
SUMMARY:FF Gemeinde Herrngiersdorf - Übung Gruppe und Jugendgruppe "Hydrantenbegehung"
LOCATION:Bernhardstraße 35, 84097, Herrngiersdorf, Deutschland
DESCRIPTION;ENCODING=QUOTED-PRINTABLE:
DTSTAMP:20260422T003002Z
DTSTART:20190921T070000Z
DTEND:20190921T110000Z
SEQUENCE:0
TRANSP:OPAQUE
END:VEVENT
END:VCALENDAR