BEGIN:VCALENDAR
VERSION:2.0
PRODID:-//jEvents 2.0 for Joomla//EN
CALSCALE:GREGORIAN
METHOD:PUBLISH
BEGIN:VEVENT
UID:6nt3p3a397b01hphsepl6gftqp@google.com
CATEGORIES:Googlekalender
CREATED:20211208T110508
SUMMARY:FF Verein Herrngiersdorf - Beerdigung Josef Steindl
LOCATION:Am See 1, 84097, Semerskirchen, Herrngiersdorf, Deutschland
DESCRIPTION;ENCODING=QUOTED-PRINTABLE:Zur Abordnung gehören Herbert Fischl (Fahnenträger), Josef Ottl, Daniel Sch
 erbl und Alois Schmid (Grabredner). Treffpunkt um 14.00Uhr am Parkplatz vor
  der Kirche in Semerskirchen.\n\nHerrngiersdorf. Pfarrei: Heute, Freitag,\n
 um 14.30 Uhr, findet in der Pfarrkirche\nMaria Himmelfahrt in Semerskirchen
 \nder Trauergottesdienst für den\nverstorbenen Josef Steindl mit anschließe
 nder\nUrnenbestattung auf dem\nFriedhof in Semerskirchen statt.
DTSTAMP:20260422T032954Z
DTSTART:20190823T123000Z
DTEND:20190823T153000Z
SEQUENCE:0
TRANSP:OPAQUE
END:VEVENT
END:VCALENDAR